BEGIN:VCALENDAR
VERSION:2.0
PRODID:sabinov.sk
BEGIN:VEVENT
UID:69eb5c6941f02
DTSTART;VALUE=DATE:20250303
SEQUENCE:0
TRANSP:OPAQUE
DTEND;VALUE=DATE:20250304
SUMMARY:Vývoz zmesového komunálneho odpadu
CLASS:PUBLIC
X-MICROSOFT-CDO-ALLDAYEVENT:TRUE
DTSTAMP:20260424T120457Z
BEGIN:VALARM
TRIGGER:-P0DT6H0M0S
ACTION:DISPLAY
REPEAT:1
DESCRIPTION:Vývoz zmesového komunálneho odpadu
END:VALARM
END:VEVENT
BEGIN:VEVENT
UID:69eb5c6942364
DTSTART;VALUE=DATE:20250324
SEQUENCE:0
TRANSP:OPAQUE
DTEND;VALUE=DATE:20250325
SUMMARY:Vývoz zmesového komunálneho odpadu
CLASS:PUBLIC
X-MICROSOFT-CDO-ALLDAYEVENT:TRUE
DTSTAMP:20260424T120457Z
BEGIN:VALARM
TRIGGER:-P0DT6H0M0S
ACTION:DISPLAY
REPEAT:1
DESCRIPTION:Vývoz zmesového komunálneho odpadu
END:VALARM
END:VEVENT
BEGIN:VEVENT
UID:69eb5c694236f
DTSTART;VALUE=DATE:20250414
SEQUENCE:0
TRANSP:OPAQUE
DTEND;VALUE=DATE:20250415
SUMMARY:Vývoz zmesového komunálneho odpadu
CLASS:PUBLIC
X-MICROSOFT-CDO-ALLDAYEVENT:TRUE
DTSTAMP:20260424T120457Z
BEGIN:VALARM
TRIGGER:-P0DT6H0M0S
ACTION:DISPLAY
REPEAT:1
DESCRIPTION:Vývoz zmesového komunálneho odpadu
END:VALARM
END:VEVENT
BEGIN:VEVENT
UID:69eb5c6942378
DTSTART;VALUE=DATE:20250505
SEQUENCE:0
TRANSP:OPAQUE
DTEND;VALUE=DATE:20250506
SUMMARY:Vývoz zmesového komunálneho odpadu
CLASS:PUBLIC
X-MICROSOFT-CDO-ALLDAYEVENT:TRUE
DTSTAMP:20260424T120457Z
BEGIN:VALARM
TRIGGER:-P0DT6H0M0S
ACTION:DISPLAY
REPEAT:1
DESCRIPTION:Vývoz zmesového komunálneho odpadu
END:VALARM
END:VEVENT
BEGIN:VEVENT
UID:69eb5c6942382
DTSTART;VALUE=DATE:20250526
SEQUENCE:0
TRANSP:OPAQUE
DTEND;VALUE=DATE:20250527
SUMMARY:Vývoz zmesového komunálneho odpadu
CLASS:PUBLIC
X-MICROSOFT-CDO-ALLDAYEVENT:TRUE
DTSTAMP:20260424T120457Z
BEGIN:VALARM
TRIGGER:-P0DT6H0M0S
ACTION:DISPLAY
REPEAT:1
DESCRIPTION:Vývoz zmesového komunálneho odpadu
END:VALARM
END:VEVENT
BEGIN:VEVENT
UID:69eb5c694238a
DTSTART;VALUE=DATE:20250616
SEQUENCE:0
TRANSP:OPAQUE
DTEND;VALUE=DATE:20250617
SUMMARY:Vývoz zmesového komunálneho odpadu
CLASS:PUBLIC
X-MICROSOFT-CDO-ALLDAYEVENT:TRUE
DTSTAMP:20260424T120457Z
BEGIN:VALARM
TRIGGER:-P0DT6H0M0S
ACTION:DISPLAY
REPEAT:1
DESCRIPTION:Vývoz zmesového komunálneho odpadu
END:VALARM
END:VEVENT
BEGIN:VEVENT
UID:69eb5c6942392
DTSTART;VALUE=DATE:20250707
SEQUENCE:0
TRANSP:OPAQUE
DTEND;VALUE=DATE:20250708
SUMMARY:Vývoz zmesového komunálneho odpadu
CLASS:PUBLIC
X-MICROSOFT-CDO-ALLDAYEVENT:TRUE
DTSTAMP:20260424T120457Z
BEGIN:VALARM
TRIGGER:-P0DT6H0M0S
ACTION:DISPLAY
REPEAT:1
DESCRIPTION:Vývoz zmesového komunálneho odpadu
END:VALARM
END:VEVENT
BEGIN:VEVENT
UID:69eb5c694239b
DTSTART;VALUE=DATE:20250728
SEQUENCE:0
TRANSP:OPAQUE
DTEND;VALUE=DATE:20250729
SUMMARY:Vývoz zmesového komunálneho odpadu
CLASS:PUBLIC
X-MICROSOFT-CDO-ALLDAYEVENT:TRUE
DTSTAMP:20260424T120457Z
BEGIN:VALARM
TRIGGER:-P0DT6H0M0S
ACTION:DISPLAY
REPEAT:1
DESCRIPTION:Vývoz zmesového komunálneho odpadu
END:VALARM
END:VEVENT
BEGIN:VEVENT
UID:69eb5c69423a4
DTSTART;VALUE=DATE:20250818
SEQUENCE:0
TRANSP:OPAQUE
DTEND;VALUE=DATE:20250819
SUMMARY:Vývoz zmesového komunálneho odpadu
CLASS:PUBLIC
X-MICROSOFT-CDO-ALLDAYEVENT:TRUE
DTSTAMP:20260424T120457Z
BEGIN:VALARM
TRIGGER:-P0DT6H0M0S
ACTION:DISPLAY
REPEAT:1
DESCRIPTION:Vývoz zmesového komunálneho odpadu
END:VALARM
END:VEVENT
BEGIN:VEVENT
UID:69eb5c69423ad
DTSTART;VALUE=DATE:20250908
SEQUENCE:0
TRANSP:OPAQUE
DTEND;VALUE=DATE:20250909
SUMMARY:Vývoz zmesového komunálneho odpadu
CLASS:PUBLIC
X-MICROSOFT-CDO-ALLDAYEVENT:TRUE
DTSTAMP:20260424T120457Z
BEGIN:VALARM
TRIGGER:-P0DT6H0M0S
ACTION:DISPLAY
REPEAT:1
DESCRIPTION:Vývoz zmesového komunálneho odpadu
END:VALARM
END:VEVENT
BEGIN:VEVENT
UID:69eb5c69423b6
DTSTART;VALUE=DATE:20250929
SEQUENCE:0
TRANSP:OPAQUE
DTEND;VALUE=DATE:20250930
SUMMARY:Vývoz zmesového komunálneho odpadu
CLASS:PUBLIC
X-MICROSOFT-CDO-ALLDAYEVENT:TRUE
DTSTAMP:20260424T120457Z
BEGIN:VALARM
TRIGGER:-P0DT6H0M0S
ACTION:DISPLAY
REPEAT:1
DESCRIPTION:Vývoz zmesového komunálneho odpadu
END:VALARM
END:VEVENT
BEGIN:VEVENT
UID:69eb5c69423c0
DTSTART;VALUE=DATE:20251020
SEQUENCE:0
TRANSP:OPAQUE
DTEND;VALUE=DATE:20251021
SUMMARY:Vývoz zmesového komunálneho odpadu
CLASS:PUBLIC
X-MICROSOFT-CDO-ALLDAYEVENT:TRUE
DTSTAMP:20260424T120457Z
BEGIN:VALARM
TRIGGER:-P0DT6H0M0S
ACTION:DISPLAY
REPEAT:1
DESCRIPTION:Vývoz zmesového komunálneho odpadu
END:VALARM
END:VEVENT
BEGIN:VEVENT
UID:69eb5c69423c8
DTSTART;VALUE=DATE:20251110
SEQUENCE:0
TRANSP:OPAQUE
DTEND;VALUE=DATE:20251111
SUMMARY:Vývoz zmesového komunálneho odpadu
CLASS:PUBLIC
X-MICROSOFT-CDO-ALLDAYEVENT:TRUE
DTSTAMP:20260424T120457Z
BEGIN:VALARM
TRIGGER:-P0DT6H0M0S
ACTION:DISPLAY
REPEAT:1
DESCRIPTION:Vývoz zmesového komunálneho odpadu
END:VALARM
END:VEVENT
BEGIN:VEVENT
UID:69eb5c69423d0
DTSTART;VALUE=DATE:20251201
SEQUENCE:0
TRANSP:OPAQUE
DTEND;VALUE=DATE:20251202
SUMMARY:Vývoz zmesového komunálneho odpadu
CLASS:PUBLIC
X-MICROSOFT-CDO-ALLDAYEVENT:TRUE
DTSTAMP:20260424T120457Z
BEGIN:VALARM
TRIGGER:-P0DT6H0M0S
ACTION:DISPLAY
REPEAT:1
DESCRIPTION:Vývoz zmesového komunálneho odpadu
END:VALARM
END:VEVENT
BEGIN:VEVENT
UID:69eb5c69423da
DTSTART;VALUE=DATE:20251229
SEQUENCE:0
TRANSP:OPAQUE
DTEND;VALUE=DATE:20251230
SUMMARY:Vývoz zmesového komunálneho odpadu
CLASS:PUBLIC
X-MICROSOFT-CDO-ALLDAYEVENT:TRUE
DTSTAMP:20260424T120457Z
BEGIN:VALARM
TRIGGER:-P0DT6H0M0S
ACTION:DISPLAY
REPEAT:1
DESCRIPTION:Vývoz zmesového komunálneho odpadu
END:VALARM
END:VEVENT
BEGIN:VEVENT
UID:69eb5c69423e8
DTSTART;VALUE=DATE:20250328
SEQUENCE:0
TRANSP:OPAQUE
DTEND;VALUE=DATE:20250329
SUMMARY:Vývoz plastov
CLASS:PUBLIC
X-MICROSOFT-CDO-ALLDAYEVENT:TRUE
DTSTAMP:20260424T120457Z
BEGIN:VALARM
TRIGGER:-P0DT6H0M0S
ACTION:DISPLAY
REPEAT:1
DESCRIPTION:Vývoz plastov
END:VALARM
END:VEVENT
BEGIN:VEVENT
UID:69eb5c69423f6
DTSTART;VALUE=DATE:20250425
SEQUENCE:0
TRANSP:OPAQUE
DTEND;VALUE=DATE:20250426
SUMMARY:Vývoz plastov
CLASS:PUBLIC
X-MICROSOFT-CDO-ALLDAYEVENT:TRUE
DTSTAMP:20260424T120457Z
BEGIN:VALARM
TRIGGER:-P0DT6H0M0S
ACTION:DISPLAY
REPEAT:1
DESCRIPTION:Vývoz plastov
END:VALARM
END:VEVENT
BEGIN:VEVENT
UID:69eb5c6942403
DTSTART;VALUE=DATE:20250523
SEQUENCE:0
TRANSP:OPAQUE
DTEND;VALUE=DATE:20250524
SUMMARY:Vývoz plastov
CLASS:PUBLIC
X-MICROSOFT-CDO-ALLDAYEVENT:TRUE
DTSTAMP:20260424T120457Z
BEGIN:VALARM
TRIGGER:-P0DT6H0M0S
ACTION:DISPLAY
REPEAT:1
DESCRIPTION:Vývoz plastov
END:VALARM
END:VEVENT
BEGIN:VEVENT
UID:69eb5c6942411
DTSTART;VALUE=DATE:20250617
SEQUENCE:0
TRANSP:OPAQUE
DTEND;VALUE=DATE:20250618
SUMMARY:Vývoz plastov
CLASS:PUBLIC
X-MICROSOFT-CDO-ALLDAYEVENT:TRUE
DTSTAMP:20260424T120457Z
BEGIN:VALARM
TRIGGER:-P0DT6H0M0S
ACTION:DISPLAY
REPEAT:1
DESCRIPTION:Vývoz plastov
END:VALARM
END:VEVENT
BEGIN:VEVENT
UID:69eb5c694241d
DTSTART;VALUE=DATE:20250718
SEQUENCE:0
TRANSP:OPAQUE
DTEND;VALUE=DATE:20250719
SUMMARY:Vývoz plastov
CLASS:PUBLIC
X-MICROSOFT-CDO-ALLDAYEVENT:TRUE
DTSTAMP:20260424T120457Z
BEGIN:VALARM
TRIGGER:-P0DT6H0M0S
ACTION:DISPLAY
REPEAT:1
DESCRIPTION:Vývoz plastov
END:VALARM
END:VEVENT
BEGIN:VEVENT
UID:69eb5c6942426
DTSTART;VALUE=DATE:20250812
SEQUENCE:0
TRANSP:OPAQUE
DTEND;VALUE=DATE:20250813
SUMMARY:Vývoz plastov
CLASS:PUBLIC
X-MICROSOFT-CDO-ALLDAYEVENT:TRUE
DTSTAMP:20260424T120457Z
BEGIN:VALARM
TRIGGER:-P0DT6H0M0S
ACTION:DISPLAY
REPEAT:1
DESCRIPTION:Vývoz plastov
END:VALARM
END:VEVENT
BEGIN:VEVENT
UID:69eb5c694242f
DTSTART;VALUE=DATE:20250911
SEQUENCE:0
TRANSP:OPAQUE
DTEND;VALUE=DATE:20250912
SUMMARY:Vývoz plastov
CLASS:PUBLIC
X-MICROSOFT-CDO-ALLDAYEVENT:TRUE
DTSTAMP:20260424T120457Z
BEGIN:VALARM
TRIGGER:-P0DT6H0M0S
ACTION:DISPLAY
REPEAT:1
DESCRIPTION:Vývoz plastov
END:VALARM
END:VEVENT
BEGIN:VEVENT
UID:69eb5c6942437
DTSTART;VALUE=DATE:20251010
SEQUENCE:0
TRANSP:OPAQUE
DTEND;VALUE=DATE:20251011
SUMMARY:Vývoz plastov
CLASS:PUBLIC
X-MICROSOFT-CDO-ALLDAYEVENT:TRUE
DTSTAMP:20260424T120457Z
BEGIN:VALARM
TRIGGER:-P0DT6H0M0S
ACTION:DISPLAY
REPEAT:1
DESCRIPTION:Vývoz plastov
END:VALARM
END:VEVENT
BEGIN:VEVENT
UID:69eb5c6942440
DTSTART;VALUE=DATE:20251107
SEQUENCE:0
TRANSP:OPAQUE
DTEND;VALUE=DATE:20251108
SUMMARY:Vývoz plastov
CLASS:PUBLIC
X-MICROSOFT-CDO-ALLDAYEVENT:TRUE
DTSTAMP:20260424T120457Z
BEGIN:VALARM
TRIGGER:-P0DT6H0M0S
ACTION:DISPLAY
REPEAT:1
DESCRIPTION:Vývoz plastov
END:VALARM
END:VEVENT
BEGIN:VEVENT
UID:69eb5c6942449
DTSTART;VALUE=DATE:20251202
SEQUENCE:0
TRANSP:OPAQUE
DTEND;VALUE=DATE:20251203
SUMMARY:Vývoz plastov
CLASS:PUBLIC
X-MICROSOFT-CDO-ALLDAYEVENT:TRUE
DTSTAMP:20260424T120457Z
BEGIN:VALARM
TRIGGER:-P0DT6H0M0S
ACTION:DISPLAY
REPEAT:1
DESCRIPTION:Vývoz plastov
END:VALARM
END:VEVENT
BEGIN:VEVENT
UID:69eb5c6942452
DTSTART;VALUE=DATE:20250415
SEQUENCE:0
TRANSP:OPAQUE
DTEND;VALUE=DATE:20250416
SUMMARY:Vývoz papiera
CLASS:PUBLIC
X-MICROSOFT-CDO-ALLDAYEVENT:TRUE
DTSTAMP:20260424T120457Z
BEGIN:VALARM
TRIGGER:-P0DT6H0M0S
ACTION:DISPLAY
REPEAT:1
DESCRIPTION:Vývoz papiera
END:VALARM
END:VEVENT
BEGIN:VEVENT
UID:69eb5c694245a
DTSTART;VALUE=DATE:20250711
SEQUENCE:0
TRANSP:OPAQUE
DTEND;VALUE=DATE:20250712
SUMMARY:Vývoz papiera
CLASS:PUBLIC
X-MICROSOFT-CDO-ALLDAYEVENT:TRUE
DTSTAMP:20260424T120457Z
BEGIN:VALARM
TRIGGER:-P0DT6H0M0S
ACTION:DISPLAY
REPEAT:1
DESCRIPTION:Vývoz papiera
END:VALARM
END:VEVENT
BEGIN:VEVENT
UID:69eb5c6942463
DTSTART;VALUE=DATE:20251009
SEQUENCE:0
TRANSP:OPAQUE
DTEND;VALUE=DATE:20251010
SUMMARY:Vývoz papiera
CLASS:PUBLIC
X-MICROSOFT-CDO-ALLDAYEVENT:TRUE
DTSTAMP:20260424T120457Z
BEGIN:VALARM
TRIGGER:-P0DT6H0M0S
ACTION:DISPLAY
REPEAT:1
DESCRIPTION:Vývoz papiera
END:VALARM
END:VEVENT
BEGIN:VEVENT
UID:69eb5c694246b
DTSTART;VALUE=DATE:20250428
SEQUENCE:0
TRANSP:OPAQUE
DTEND;VALUE=DATE:20250429
SUMMARY:Vývoz skla
CLASS:PUBLIC
X-MICROSOFT-CDO-ALLDAYEVENT:TRUE
DTSTAMP:20260424T120457Z
BEGIN:VALARM
TRIGGER:-P0DT6H0M0S
ACTION:DISPLAY
REPEAT:1
DESCRIPTION:Vývoz skla
END:VALARM
END:VEVENT
BEGIN:VEVENT
UID:69eb5c6942474
DTSTART;VALUE=DATE:20250704
SEQUENCE:0
TRANSP:OPAQUE
DTEND;VALUE=DATE:20250705
SUMMARY:Vývoz skla
CLASS:PUBLIC
X-MICROSOFT-CDO-ALLDAYEVENT:TRUE
DTSTAMP:20260424T120457Z
BEGIN:VALARM
TRIGGER:-P0DT6H0M0S
ACTION:DISPLAY
REPEAT:1
DESCRIPTION:Vývoz skla
END:VALARM
END:VEVENT
BEGIN:VEVENT
UID:69eb5c694247c
DTSTART;VALUE=DATE:20251030
SEQUENCE:0
TRANSP:OPAQUE
DTEND;VALUE=DATE:20251031
SUMMARY:Vývoz skla
CLASS:PUBLIC
X-MICROSOFT-CDO-ALLDAYEVENT:TRUE
DTSTAMP:20260424T120457Z
BEGIN:VALARM
TRIGGER:-P0DT6H0M0S
ACTION:DISPLAY
REPEAT:1
DESCRIPTION:Vývoz skla
END:VALARM
END:VEVENT
BEGIN:VEVENT
UID:69eb5c6942484
DTSTART;VALUE=DATE:20250320
SEQUENCE:0
TRANSP:OPAQUE
DTEND;VALUE=DATE:20250321
SUMMARY:Vývoz nebezpečného odpadu
CLASS:PUBLIC
X-MICROSOFT-CDO-ALLDAYEVENT:TRUE
DTSTAMP:20260424T120457Z
BEGIN:VALARM
TRIGGER:-P0DT6H0M0S
ACTION:DISPLAY
REPEAT:1
DESCRIPTION:Vývoz nebezpečného odpadu
END:VALARM
END:VEVENT
BEGIN:VEVENT
UID:69eb5c694248c
DTSTART;VALUE=DATE:20251030
SEQUENCE:0
TRANSP:OPAQUE
DTEND;VALUE=DATE:20251031
SUMMARY:Vývoz nebezpečného odpadu
CLASS:PUBLIC
X-MICROSOFT-CDO-ALLDAYEVENT:TRUE
DTSTAMP:20260424T120457Z
BEGIN:VALARM
TRIGGER:-P0DT6H0M0S
ACTION:DISPLAY
REPEAT:1
DESCRIPTION:Vývoz nebezpečného odpadu
END:VALARM
END:VEVENT
BEGIN:VEVENT
UID:69eb5c6942495
DTSTART;VALUE=DATE:20260119
SEQUENCE:0
TRANSP:OPAQUE
DTEND;VALUE=DATE:20260120
SUMMARY:Vývoz zmesového komunálneho odpadu
CLASS:PUBLIC
X-MICROSOFT-CDO-ALLDAYEVENT:TRUE
DTSTAMP:20260424T120457Z
BEGIN:VALARM
TRIGGER:-P0DT6H0M0S
ACTION:DISPLAY
REPEAT:1
DESCRIPTION:Vývoz zmesového komunálneho odpadu
END:VALARM
END:VEVENT
BEGIN:VEVENT
UID:69eb5c694249e
DTSTART;VALUE=DATE:20260209
SEQUENCE:0
TRANSP:OPAQUE
DTEND;VALUE=DATE:20260210
SUMMARY:Vývoz zmesového komunálneho odpadu
CLASS:PUBLIC
X-MICROSOFT-CDO-ALLDAYEVENT:TRUE
DTSTAMP:20260424T120457Z
BEGIN:VALARM
TRIGGER:-P0DT6H0M0S
ACTION:DISPLAY
REPEAT:1
DESCRIPTION:Vývoz zmesového komunálneho odpadu
END:VALARM
END:VEVENT
BEGIN:VEVENT
UID:69eb5c69424a6
DTSTART;VALUE=DATE:20260323
SEQUENCE:0
TRANSP:OPAQUE
DTEND;VALUE=DATE:20260324
SUMMARY:Vývoz zmesového komunálneho odpadu
CLASS:PUBLIC
X-MICROSOFT-CDO-ALLDAYEVENT:TRUE
DTSTAMP:20260424T120457Z
BEGIN:VALARM
TRIGGER:-P0DT6H0M0S
ACTION:DISPLAY
REPEAT:1
DESCRIPTION:Vývoz zmesového komunálneho odpadu
END:VALARM
END:VEVENT
BEGIN:VEVENT
UID:69eb5c69424af
DTSTART;VALUE=DATE:20260413
SEQUENCE:0
TRANSP:OPAQUE
DTEND;VALUE=DATE:20260414
SUMMARY:Vývoz zmesového komunálneho odpadu
CLASS:PUBLIC
X-MICROSOFT-CDO-ALLDAYEVENT:TRUE
DTSTAMP:20260424T120457Z
BEGIN:VALARM
TRIGGER:-P0DT6H0M0S
ACTION:DISPLAY
REPEAT:1
DESCRIPTION:Vývoz zmesového komunálneho odpadu
END:VALARM
END:VEVENT
BEGIN:VEVENT
UID:69eb5c69424b8
DTSTART;VALUE=DATE:20260504
SEQUENCE:0
TRANSP:OPAQUE
DTEND;VALUE=DATE:20260505
SUMMARY:Vývoz zmesového komunálneho odpadu
CLASS:PUBLIC
X-MICROSOFT-CDO-ALLDAYEVENT:TRUE
DTSTAMP:20260424T120457Z
BEGIN:VALARM
TRIGGER:-P0DT6H0M0S
ACTION:DISPLAY
REPEAT:1
DESCRIPTION:Vývoz zmesového komunálneho odpadu
END:VALARM
END:VEVENT
BEGIN:VEVENT
UID:69eb5c69424c0
DTSTART;VALUE=DATE:20260525
SEQUENCE:0
TRANSP:OPAQUE
DTEND;VALUE=DATE:20260526
SUMMARY:Vývoz zmesového komunálneho odpadu
CLASS:PUBLIC
X-MICROSOFT-CDO-ALLDAYEVENT:TRUE
DTSTAMP:20260424T120457Z
BEGIN:VALARM
TRIGGER:-P0DT6H0M0S
ACTION:DISPLAY
REPEAT:1
DESCRIPTION:Vývoz zmesového komunálneho odpadu
END:VALARM
END:VEVENT
BEGIN:VEVENT
UID:69eb5c69424c8
DTSTART;VALUE=DATE:20260615
SEQUENCE:0
TRANSP:OPAQUE
DTEND;VALUE=DATE:20260616
SUMMARY:Vývoz zmesového komunálneho odpadu
CLASS:PUBLIC
X-MICROSOFT-CDO-ALLDAYEVENT:TRUE
DTSTAMP:20260424T120457Z
BEGIN:VALARM
TRIGGER:-P0DT6H0M0S
ACTION:DISPLAY
REPEAT:1
DESCRIPTION:Vývoz zmesového komunálneho odpadu
END:VALARM
END:VEVENT
BEGIN:VEVENT
UID:69eb5c69424d0
DTSTART;VALUE=DATE:20260706
SEQUENCE:0
TRANSP:OPAQUE
DTEND;VALUE=DATE:20260707
SUMMARY:Vývoz zmesového komunálneho odpadu
CLASS:PUBLIC
X-MICROSOFT-CDO-ALLDAYEVENT:TRUE
DTSTAMP:20260424T120457Z
BEGIN:VALARM
TRIGGER:-P0DT6H0M0S
ACTION:DISPLAY
REPEAT:1
DESCRIPTION:Vývoz zmesového komunálneho odpadu
END:VALARM
END:VEVENT
BEGIN:VEVENT
UID:69eb5c69424d8
DTSTART;VALUE=DATE:20260727
SEQUENCE:0
TRANSP:OPAQUE
DTEND;VALUE=DATE:20260728
SUMMARY:Vývoz zmesového komunálneho odpadu
CLASS:PUBLIC
X-MICROSOFT-CDO-ALLDAYEVENT:TRUE
DTSTAMP:20260424T120457Z
BEGIN:VALARM
TRIGGER:-P0DT6H0M0S
ACTION:DISPLAY
REPEAT:1
DESCRIPTION:Vývoz zmesového komunálneho odpadu
END:VALARM
END:VEVENT
BEGIN:VEVENT
UID:69eb5c69424e0
DTSTART;VALUE=DATE:20260817
SEQUENCE:0
TRANSP:OPAQUE
DTEND;VALUE=DATE:20260818
SUMMARY:Vývoz zmesového komunálneho odpadu
CLASS:PUBLIC
X-MICROSOFT-CDO-ALLDAYEVENT:TRUE
DTSTAMP:20260424T120457Z
BEGIN:VALARM
TRIGGER:-P0DT6H0M0S
ACTION:DISPLAY
REPEAT:1
DESCRIPTION:Vývoz zmesového komunálneho odpadu
END:VALARM
END:VEVENT
BEGIN:VEVENT
UID:69eb5c69424e8
DTSTART;VALUE=DATE:20260907
SEQUENCE:0
TRANSP:OPAQUE
DTEND;VALUE=DATE:20260908
SUMMARY:Vývoz zmesového komunálneho odpadu
CLASS:PUBLIC
X-MICROSOFT-CDO-ALLDAYEVENT:TRUE
DTSTAMP:20260424T120457Z
BEGIN:VALARM
TRIGGER:-P0DT6H0M0S
ACTION:DISPLAY
REPEAT:1
DESCRIPTION:Vývoz zmesového komunálneho odpadu
END:VALARM
END:VEVENT
BEGIN:VEVENT
UID:69eb5c69424f0
DTSTART;VALUE=DATE:20260928
SEQUENCE:0
TRANSP:OPAQUE
DTEND;VALUE=DATE:20260929
SUMMARY:Vývoz zmesového komunálneho odpadu
CLASS:PUBLIC
X-MICROSOFT-CDO-ALLDAYEVENT:TRUE
DTSTAMP:20260424T120457Z
BEGIN:VALARM
TRIGGER:-P0DT6H0M0S
ACTION:DISPLAY
REPEAT:1
DESCRIPTION:Vývoz zmesového komunálneho odpadu
END:VALARM
END:VEVENT
BEGIN:VEVENT
UID:69eb5c69424f7
DTSTART;VALUE=DATE:20261019
SEQUENCE:0
TRANSP:OPAQUE
DTEND;VALUE=DATE:20261020
SUMMARY:Vývoz zmesového komunálneho odpadu
CLASS:PUBLIC
X-MICROSOFT-CDO-ALLDAYEVENT:TRUE
DTSTAMP:20260424T120457Z
BEGIN:VALARM
TRIGGER:-P0DT6H0M0S
ACTION:DISPLAY
REPEAT:1
DESCRIPTION:Vývoz zmesového komunálneho odpadu
END:VALARM
END:VEVENT
BEGIN:VEVENT
UID:69eb5c69424ff
DTSTART;VALUE=DATE:20261109
SEQUENCE:0
TRANSP:OPAQUE
DTEND;VALUE=DATE:20261110
SUMMARY:Vývoz zmesového komunálneho odpadu
CLASS:PUBLIC
X-MICROSOFT-CDO-ALLDAYEVENT:TRUE
DTSTAMP:20260424T120457Z
BEGIN:VALARM
TRIGGER:-P0DT6H0M0S
ACTION:DISPLAY
REPEAT:1
DESCRIPTION:Vývoz zmesového komunálneho odpadu
END:VALARM
END:VEVENT
BEGIN:VEVENT
UID:69eb5c6942507
DTSTART;VALUE=DATE:20261130
SEQUENCE:0
TRANSP:OPAQUE
DTEND;VALUE=DATE:20261201
SUMMARY:Vývoz zmesového komunálneho odpadu
CLASS:PUBLIC
X-MICROSOFT-CDO-ALLDAYEVENT:TRUE
DTSTAMP:20260424T120457Z
BEGIN:VALARM
TRIGGER:-P0DT6H0M0S
ACTION:DISPLAY
REPEAT:1
DESCRIPTION:Vývoz zmesového komunálneho odpadu
END:VALARM
END:VEVENT
BEGIN:VEVENT
UID:69eb5c6942510
DTSTART;VALUE=DATE:20261218
SEQUENCE:0
TRANSP:OPAQUE
DTEND;VALUE=DATE:20261219
SUMMARY:Vývoz zmesového komunálneho odpadu
CLASS:PUBLIC
X-MICROSOFT-CDO-ALLDAYEVENT:TRUE
DTSTAMP:20260424T120457Z
BEGIN:VALARM
TRIGGER:-P0DT6H0M0S
ACTION:DISPLAY
REPEAT:1
DESCRIPTION:Vývoz zmesového komunálneho odpadu
END:VALARM
END:VEVENT
BEGIN:VEVENT
UID:69eb5c6942518
DTSTART;VALUE=DATE:20260102
SEQUENCE:0
TRANSP:OPAQUE
DTEND;VALUE=DATE:20260103
SUMMARY:Vývoz plastov
CLASS:PUBLIC
X-MICROSOFT-CDO-ALLDAYEVENT:TRUE
DTSTAMP:20260424T120457Z
BEGIN:VALARM
TRIGGER:-P0DT6H0M0S
ACTION:DISPLAY
REPEAT:1
DESCRIPTION:Vývoz plastov
END:VALARM
END:VEVENT
BEGIN:VEVENT
UID:69eb5c694251f
DTSTART;VALUE=DATE:20260130
SEQUENCE:0
TRANSP:OPAQUE
DTEND;VALUE=DATE:20260131
SUMMARY:Vývoz plastov
CLASS:PUBLIC
X-MICROSOFT-CDO-ALLDAYEVENT:TRUE
DTSTAMP:20260424T120457Z
BEGIN:VALARM
TRIGGER:-P0DT6H0M0S
ACTION:DISPLAY
REPEAT:1
DESCRIPTION:Vývoz plastov
END:VALARM
END:VEVENT
BEGIN:VEVENT
UID:69eb5c6942527
DTSTART;VALUE=DATE:20260227
SEQUENCE:0
TRANSP:OPAQUE
DTEND;VALUE=DATE:20260228
SUMMARY:Vývoz plastov
CLASS:PUBLIC
X-MICROSOFT-CDO-ALLDAYEVENT:TRUE
DTSTAMP:20260424T120457Z
BEGIN:VALARM
TRIGGER:-P0DT6H0M0S
ACTION:DISPLAY
REPEAT:1
DESCRIPTION:Vývoz plastov
END:VALARM
END:VEVENT
BEGIN:VEVENT
UID:69eb5c694252f
DTSTART;VALUE=DATE:20260327
SEQUENCE:0
TRANSP:OPAQUE
DTEND;VALUE=DATE:20260328
SUMMARY:Vývoz plastov
CLASS:PUBLIC
X-MICROSOFT-CDO-ALLDAYEVENT:TRUE
DTSTAMP:20260424T120457Z
BEGIN:VALARM
TRIGGER:-P0DT6H0M0S
ACTION:DISPLAY
REPEAT:1
DESCRIPTION:Vývoz plastov
END:VALARM
END:VEVENT
BEGIN:VEVENT
UID:69eb5c6942538
DTSTART;VALUE=DATE:20260424
SEQUENCE:0
TRANSP:OPAQUE
DTEND;VALUE=DATE:20260425
SUMMARY:Vývoz plastov
CLASS:PUBLIC
X-MICROSOFT-CDO-ALLDAYEVENT:TRUE
DTSTAMP:20260424T120457Z
BEGIN:VALARM
TRIGGER:-P0DT6H0M0S
ACTION:DISPLAY
REPEAT:1
DESCRIPTION:Vývoz plastov
END:VALARM
END:VEVENT
BEGIN:VEVENT
UID:69eb5c6942546
DTSTART;VALUE=DATE:20260522
SEQUENCE:0
TRANSP:OPAQUE
DTEND;VALUE=DATE:20260523
SUMMARY:Vývoz plastov
CLASS:PUBLIC
X-MICROSOFT-CDO-ALLDAYEVENT:TRUE
DTSTAMP:20260424T120457Z
BEGIN:VALARM
TRIGGER:-P0DT6H0M0S
ACTION:DISPLAY
REPEAT:1
DESCRIPTION:Vývoz plastov
END:VALARM
END:VEVENT
BEGIN:VEVENT
UID:69eb5c6942552
DTSTART;VALUE=DATE:20260616
SEQUENCE:0
TRANSP:OPAQUE
DTEND;VALUE=DATE:20260617
SUMMARY:Vývoz plastov
CLASS:PUBLIC
X-MICROSOFT-CDO-ALLDAYEVENT:TRUE
DTSTAMP:20260424T120457Z
BEGIN:VALARM
TRIGGER:-P0DT6H0M0S
ACTION:DISPLAY
REPEAT:1
DESCRIPTION:Vývoz plastov
END:VALARM
END:VEVENT
BEGIN:VEVENT
UID:69eb5c694255a
DTSTART;VALUE=DATE:20260717
SEQUENCE:0
TRANSP:OPAQUE
DTEND;VALUE=DATE:20260718
SUMMARY:Vývoz plastov
CLASS:PUBLIC
X-MICROSOFT-CDO-ALLDAYEVENT:TRUE
DTSTAMP:20260424T120457Z
BEGIN:VALARM
TRIGGER:-P0DT6H0M0S
ACTION:DISPLAY
REPEAT:1
DESCRIPTION:Vývoz plastov
END:VALARM
END:VEVENT
BEGIN:VEVENT
UID:69eb5c6942565
DTSTART;VALUE=DATE:20260811
SEQUENCE:0
TRANSP:OPAQUE
DTEND;VALUE=DATE:20260812
SUMMARY:Vývoz plastov
CLASS:PUBLIC
X-MICROSOFT-CDO-ALLDAYEVENT:TRUE
DTSTAMP:20260424T120457Z
BEGIN:VALARM
TRIGGER:-P0DT6H0M0S
ACTION:DISPLAY
REPEAT:1
DESCRIPTION:Vývoz plastov
END:VALARM
END:VEVENT
BEGIN:VEVENT
UID:69eb5c694257a
DTSTART;VALUE=DATE:20260910
SEQUENCE:0
TRANSP:OPAQUE
DTEND;VALUE=DATE:20260911
SUMMARY:Vývoz plastov
CLASS:PUBLIC
X-MICROSOFT-CDO-ALLDAYEVENT:TRUE
DTSTAMP:20260424T120457Z
BEGIN:VALARM
TRIGGER:-P0DT6H0M0S
ACTION:DISPLAY
REPEAT:1
DESCRIPTION:Vývoz plastov
END:VALARM
END:VEVENT
BEGIN:VEVENT
UID:69eb5c6942582
DTSTART;VALUE=DATE:20261009
SEQUENCE:0
TRANSP:OPAQUE
DTEND;VALUE=DATE:20261010
SUMMARY:Vývoz plastov
CLASS:PUBLIC
X-MICROSOFT-CDO-ALLDAYEVENT:TRUE
DTSTAMP:20260424T120457Z
BEGIN:VALARM
TRIGGER:-P0DT6H0M0S
ACTION:DISPLAY
REPEAT:1
DESCRIPTION:Vývoz plastov
END:VALARM
END:VEVENT
BEGIN:VEVENT
UID:69eb5c694258a
DTSTART;VALUE=DATE:20261106
SEQUENCE:0
TRANSP:OPAQUE
DTEND;VALUE=DATE:20261107
SUMMARY:Vývoz plastov
CLASS:PUBLIC
X-MICROSOFT-CDO-ALLDAYEVENT:TRUE
DTSTAMP:20260424T120457Z
BEGIN:VALARM
TRIGGER:-P0DT6H0M0S
ACTION:DISPLAY
REPEAT:1
DESCRIPTION:Vývoz plastov
END:VALARM
END:VEVENT
BEGIN:VEVENT
UID:69eb5c69425a2
DTSTART;VALUE=DATE:20261201
SEQUENCE:0
TRANSP:OPAQUE
DTEND;VALUE=DATE:20261202
SUMMARY:Vývoz plastov
CLASS:PUBLIC
X-MICROSOFT-CDO-ALLDAYEVENT:TRUE
DTSTAMP:20260424T120457Z
BEGIN:VALARM
TRIGGER:-P0DT6H0M0S
ACTION:DISPLAY
REPEAT:1
DESCRIPTION:Vývoz plastov
END:VALARM
END:VEVENT
BEGIN:VEVENT
UID:69eb5c69425ad
DTSTART;VALUE=DATE:20260122
SEQUENCE:0
TRANSP:OPAQUE
DTEND;VALUE=DATE:20260123
SUMMARY:Vývoz skla
CLASS:PUBLIC
X-MICROSOFT-CDO-ALLDAYEVENT:TRUE
DTSTAMP:20260424T120457Z
BEGIN:VALARM
TRIGGER:-P0DT6H0M0S
ACTION:DISPLAY
REPEAT:1
DESCRIPTION:Vývoz skla
END:VALARM
END:VEVENT
BEGIN:VEVENT
UID:69eb5c69425b9
DTSTART;VALUE=DATE:20260427
SEQUENCE:0
TRANSP:OPAQUE
DTEND;VALUE=DATE:20260428
SUMMARY:Vývoz skla
CLASS:PUBLIC
X-MICROSOFT-CDO-ALLDAYEVENT:TRUE
DTSTAMP:20260424T120457Z
BEGIN:VALARM
TRIGGER:-P0DT6H0M0S
ACTION:DISPLAY
REPEAT:1
DESCRIPTION:Vývoz skla
END:VALARM
END:VEVENT
BEGIN:VEVENT
UID:69eb5c69425c2
DTSTART;VALUE=DATE:20260703
SEQUENCE:0
TRANSP:OPAQUE
DTEND;VALUE=DATE:20260704
SUMMARY:Vývoz skla
CLASS:PUBLIC
X-MICROSOFT-CDO-ALLDAYEVENT:TRUE
DTSTAMP:20260424T120457Z
BEGIN:VALARM
TRIGGER:-P0DT6H0M0S
ACTION:DISPLAY
REPEAT:1
DESCRIPTION:Vývoz skla
END:VALARM
END:VEVENT
BEGIN:VEVENT
UID:69eb5c69425cd
DTSTART;VALUE=DATE:20261029
SEQUENCE:0
TRANSP:OPAQUE
DTEND;VALUE=DATE:20261030
SUMMARY:Vývoz skla
CLASS:PUBLIC
X-MICROSOFT-CDO-ALLDAYEVENT:TRUE
DTSTAMP:20260424T120457Z
BEGIN:VALARM
TRIGGER:-P0DT6H0M0S
ACTION:DISPLAY
REPEAT:1
DESCRIPTION:Vývoz skla
END:VALARM
END:VEVENT
BEGIN:VEVENT
UID:69eb5c69425d6
DTSTART;VALUE=DATE:20260123
SEQUENCE:0
TRANSP:OPAQUE
DTEND;VALUE=DATE:20260124
SUMMARY:Vývoz papiera
CLASS:PUBLIC
X-MICROSOFT-CDO-ALLDAYEVENT:TRUE
DTSTAMP:20260424T120457Z
BEGIN:VALARM
TRIGGER:-P0DT6H0M0S
ACTION:DISPLAY
REPEAT:1
DESCRIPTION:Vývoz papiera
END:VALARM
END:VEVENT
BEGIN:VEVENT
UID:69eb5c69425de
DTSTART;VALUE=DATE:20260414
SEQUENCE:0
TRANSP:OPAQUE
DTEND;VALUE=DATE:20260415
SUMMARY:Vývoz papiera
CLASS:PUBLIC
X-MICROSOFT-CDO-ALLDAYEVENT:TRUE
DTSTAMP:20260424T120457Z
BEGIN:VALARM
TRIGGER:-P0DT6H0M0S
ACTION:DISPLAY
REPEAT:1
DESCRIPTION:Vývoz papiera
END:VALARM
END:VEVENT
BEGIN:VEVENT
UID:69eb5c69425ea
DTSTART;VALUE=DATE:20260710
SEQUENCE:0
TRANSP:OPAQUE
DTEND;VALUE=DATE:20260711
SUMMARY:Vývoz papiera
CLASS:PUBLIC
X-MICROSOFT-CDO-ALLDAYEVENT:TRUE
DTSTAMP:20260424T120457Z
BEGIN:VALARM
TRIGGER:-P0DT6H0M0S
ACTION:DISPLAY
REPEAT:1
DESCRIPTION:Vývoz papiera
END:VALARM
END:VEVENT
BEGIN:VEVENT
UID:69eb5c6942603
DTSTART;VALUE=DATE:20261008
SEQUENCE:0
TRANSP:OPAQUE
DTEND;VALUE=DATE:20261009
SUMMARY:Vývoz papiera
CLASS:PUBLIC
X-MICROSOFT-CDO-ALLDAYEVENT:TRUE
DTSTAMP:20260424T120457Z
BEGIN:VALARM
TRIGGER:-P0DT6H0M0S
ACTION:DISPLAY
REPEAT:1
DESCRIPTION:Vývoz papiera
END:VALARM
END:VEVENT
BEGIN:VEVENT
UID:69eb5c694260b
DTSTART;VALUE=DATE:20260319
SEQUENCE:0
TRANSP:OPAQUE
DTEND;VALUE=DATE:20260320
SUMMARY:Vývoz nebezpečného odpadu
CLASS:PUBLIC
X-MICROSOFT-CDO-ALLDAYEVENT:TRUE
DTSTAMP:20260424T120457Z
BEGIN:VALARM
TRIGGER:-P0DT6H0M0S
ACTION:DISPLAY
REPEAT:1
DESCRIPTION:Vývoz nebezpečného odpadu
END:VALARM
END:VEVENT
BEGIN:VEVENT
UID:69eb5c6942612
DTSTART;VALUE=DATE:20261021
SEQUENCE:0
TRANSP:OPAQUE
DTEND;VALUE=DATE:20261022
SUMMARY:Vývoz nebezpečného odpadu
CLASS:PUBLIC
X-MICROSOFT-CDO-ALLDAYEVENT:TRUE
DTSTAMP:20260424T120457Z
BEGIN:VALARM
TRIGGER:-P0DT6H0M0S
ACTION:DISPLAY
REPEAT:1
DESCRIPTION:Vývoz nebezpečného odpadu
END:VALARM
END:VEVENT
END:VCALENDAR